BEGIN:VCALENDAR
VERSION:2.0
PRODID:-//Ocean County College - ECPv6.15.14//NONSGML v1.0//EN
CALSCALE:GREGORIAN
METHOD:PUBLISH
X-WR-CALNAME:Ocean County College
X-ORIGINAL-URL:https://www.ocean.edu
X-WR-CALDESC:Events for Ocean County College
REFRESH-INTERVAL;VALUE=DURATION:PT1H
X-Robots-Tag:noindex
X-PUBLISHED-TTL:PT1H
BEGIN:VTIMEZONE
TZID:America/New_York
BEGIN:DAYLIGHT
TZOFFSETFROM:-0500
TZOFFSETTO:-0400
TZNAME:EDT
DTSTART:20250309T070000
END:DAYLIGHT
BEGIN:STANDARD
TZOFFSETFROM:-0400
TZOFFSETTO:-0500
TZNAME:EST
DTSTART:20251102T060000
END:STANDARD
BEGIN:DAYLIGHT
TZOFFSETFROM:-0500
TZOFFSETTO:-0400
TZNAME:EDT
DTSTART:20260308T070000
END:DAYLIGHT
BEGIN:STANDARD
TZOFFSETFROM:-0400
TZOFFSETTO:-0500
TZNAME:EST
DTSTART:20261101T060000
END:STANDARD
BEGIN:DAYLIGHT
TZOFFSETFROM:-0500
TZOFFSETTO:-0400
TZNAME:EDT
DTSTART:20270314T070000
END:DAYLIGHT
BEGIN:STANDARD
TZOFFSETFROM:-0400
TZOFFSETTO:-0500
TZNAME:EST
DTSTART:20271107T060000
END:STANDARD
END:VTIMEZONE
BEGIN:VEVENT
DTSTART;TZID=America/New_York:20260505T110000
DTEND;TZID=America/New_York:20260505T120000
DTSTAMP:20260425T100306
CREATED:20260423T120503Z
LAST-MODIFIED:20260423T131122Z
UID:10002969-1777978800-1777982400@www.ocean.edu
SUMMARY:Don't "Crumbl" Under Academic Stress
DESCRIPTION:Don’t Crumbl Under Academic Stress \nFinals are approaching. Stop by our table to talk about stress management techniques\, self‑care strategies\, and enjoy some Crumbl cookies while you’re there. \nWhen: TUESDAY\, MAY 5\, 2026\n11:00 AM TO 12:00 PM \nLocation: Outside of The Library (Building 3) \nRain Location: Meet us inside The Library Mid-level Lobby \nRSVP is not required. \nIf you have questions\, reach out to the Counseling Center at counselingservices@ocean.edu or 732-255-0386 \nIn partnership with the Division of Mental Health Campus Cares Grant
URL:https://www.ocean.edu/event/dont-crumbl-under-academic-stress/
LOCATION:Library
CATEGORIES:Counseling Center Events
ATTACH;FMTTYPE=image/png:https://www.ocean.edu/wp-content/uploads/2026/04/Dont-crumbl-OCC.png
END:VEVENT
BEGIN:VEVENT
DTSTART;TZID=America/New_York:20260812T090000
DTEND;TZID=America/New_York:20260812T160000
DTSTAMP:20260425T100306
CREATED:20260226T171044Z
LAST-MODIFIED:20260422T200327Z
UID:10002801-1786525200-1786550400@www.ocean.edu
SUMMARY:Mental Health First Aid Training
DESCRIPTION:Mental Health First Aid (MHFA) teaches you how to identify\, understand and respond to signs of mental health and substance use challenges among adults. This course will also cover how to interact with a person in crisis and connect a person with help. \n\n\nPlease note: This event is open to both students and employees. \nThis is a blended course that includes a 2-hour\, self-paced online course to be completed by Wednesday\, 8/5 before the in-person Instructor-led training on Wednesday\, 8/12. \nLimited spots available\, please RSVP by Friday\, 7/31 at counselingservices@ocean.edu or by using the RSVP form on this page. A confirmation email will be sent from counselingservices@ocean.edu within 48 business hours of your RSVP.
URL:https://www.ocean.edu/event/mental-health-first-aid-training-3/
LOCATION:Instructional Lecture Hall #114
CATEGORIES:Counseling Center Events
ATTACH;FMTTYPE=image/webp:https://www.ocean.edu/wp-content/uploads/2024/09/A-Discussion-During-a-Group-Therapy-Session-About-Mental-Health-and-Addictions.webp
END:VEVENT
END:VCALENDAR